BEGIN:VCALENDAR
VERSION:2.0
PRODID:-//Tukios.com/
BEGIN:VEVENT
UID:d30346f2-b22c-40fb-9079-f6a1d153b972@www.tmralph.com
DTSTAMP:20260425T161410Z
DTSTART:20260428T164500Z
DTEND:20260428T174500Z
SUMMARY:Graveside Service
DESCRIPTION:Graveside at 1:00 PM with Navy Honors
URL:https://www.tmralph.com/obituaries/thomas-colvin
LOCATION: 6501 S State Rd 7  Lake Worth FL 33449
GEO:26.5913704;-80.2056493
END:VEVENT
END:VCALENDAR