BEGIN:VCALENDAR
VERSION:2.0
PRODID:-//Tukios.com/
BEGIN:VEVENT
UID:0470bba5-76f2-42d9-ba4a-6d3175b0c345@www.tmralph.com
DTSTAMP:20260425T160916Z
DTSTART:20260428T140000Z
DTEND:20260428T150000Z
SUMMARY:Funeral Service
DESCRIPTION:
URL:https://www.tmralph.com/obituaries/thomas-colvin
LOCATION: 7001 NW 4th St  Plantation FL 33317
GEO:26.1260657;-80.2411744
END:VEVENT
END:VCALENDAR