BEGIN:VCALENDAR
VERSION:2.0
PRODID:-//Tukios.com/
BEGIN:VEVENT
UID:766e2c28-69e5-49da-8aff-5b41ee757040@www.tmralph.com
DTSTAMP:20260425T161205Z
DTSTART:20260427T210000Z
DTEND:20260427T230000Z
SUMMARY:Visitation
DESCRIPTION:
URL:https://www.tmralph.com/obituaries/thomas-colvin
LOCATION: 7001 NW 4th St  Plantation FL 33317
GEO:26.1260657;-80.2411744
END:VEVENT
END:VCALENDAR