BEGIN:VCALENDAR
VERSION:2.0
PRODID:-//Tukios.com/
BEGIN:VEVENT
UID:5f19c73b-adb0-4c66-adfe-a07da4c77f60@www.tmralph.com
DTSTAMP:20260421T191208Z
DTSTART:20260509T144500Z
DTEND:20260509T154500Z
SUMMARY:Funeral Service
DESCRIPTION:
URL:https://www.tmralph.com/obituaries/sivilyn-lyn-satchell
LOCATION: 7801 NW 5th St  Plantation FL 33324
GEO:26.1288;-80.2514528
END:VEVENT
END:VCALENDAR