BEGIN:VCALENDAR
VERSION:2.0
PRODID:-//Tukios.com/
BEGIN:VEVENT
UID:afd07f88-cb11-40cd-bf61-b49ca937a3df@www.tmralph.com
DTSTAMP:20260421T190601Z
DTSTART:20260509T133000Z
DTEND:20260509T143000Z
SUMMARY:Visitation
DESCRIPTION:
URL:https://www.tmralph.com/obituaries/sivilyn-lyn-satchell
LOCATION: 7801 NW 5th St  Plantation FL 33324
GEO:26.1288;-80.2514528
END:VEVENT
END:VCALENDAR