BEGIN:VCALENDAR
VERSION:2.0
PRODID:-//Tukios.com/
BEGIN:VEVENT
UID:ee881ea2-5a25-463c-b03d-8409509d8b66@www.tmralph.com
DTSTAMP:20260421T023327Z
DTSTART:20260424T150000Z
DTEND:20260424T190000Z
SUMMARY:Visitation
DESCRIPTION:
URL:https://www.tmralph.com/obituaries/sharbel-saker
LOCATION: 371 NW 136th Ave  Sunrise FL 33325
GEO:26.1247167;-80.3307543
END:VEVENT
END:VCALENDAR