BEGIN:VCALENDAR
VERSION:2.0
PRODID:-//Tukios.com/
BEGIN:VEVENT
UID:7563c41c-d2e8-4c5c-9845-9449ea0a7909@www.tmralph.com
DTSTAMP:20260421T023231Z
DTSTART:20260424T193000Z
DTEND:20260424T203000Z
SUMMARY:Mass
DESCRIPTION:
URL:https://www.tmralph.com/obituaries/sharbel-saker
LOCATION: 10900 W Oakland Park Blvd  Sunrise FL 33351
GEO:26.1669311;-80.2947583
END:VEVENT
END:VCALENDAR