BEGIN:VCALENDAR
VERSION:2.0
PRODID:-//Tukios.com/
BEGIN:VEVENT
UID:1413c7ba-6b86-43b3-8b6a-fa2a86686887@www.tmralph.com
DTSTAMP:20260423T174843Z
DTSTART:20260501T161500Z
DTEND:20260501T171500Z
SUMMARY:Burial
DESCRIPTION:
URL:https://www.tmralph.com/obituaries/seneca-ken
LOCATION: 1500 S State Rd 7  North Lauderdale FL 33068
GEO:26.2103263;-80.200757
END:VEVENT
END:VCALENDAR