BEGIN:VCALENDAR
VERSION:2.0
PRODID:-//Tukios.com/
BEGIN:VEVENT
UID:90d58770-2cf1-4a51-9d14-e9ddea287f76@www.tmralph.com
DTSTAMP:20260423T175016Z
DTSTART:20260501T150000Z
DTEND:20260501T160000Z
SUMMARY:Funeral Service
DESCRIPTION:Please gather in the Mausoleum Chapel
URL:https://www.tmralph.com/obituaries/seneca-ken
LOCATION: 1500 S State Rd 7  North Lauderdale FL 33068
GEO:26.2103263;-80.200757
END:VEVENT
END:VCALENDAR