BEGIN:VCALENDAR
VERSION:2.0
PRODID:-//Tukios.com/
BEGIN:VEVENT
UID:8f21f3a4-ca63-46bf-89bd-096a59979478@www.tmralph.com
DTSTAMP:20260423T175201Z
DTSTART:20260501T131500Z
DTEND:20260501T141500Z
SUMMARY:Visitation
DESCRIPTION:
URL:https://www.tmralph.com/obituaries/seneca-ken
LOCATION: 371 NW 136th Ave  Sunrise FL 33325
GEO:26.1247167;-80.3307543
END:VEVENT
END:VCALENDAR