BEGIN:VCALENDAR
VERSION:2.0
PRODID:-//Tukios.com/
BEGIN:VEVENT
UID:a5d0ac4e-5a3c-43b8-b66c-0525bcc481e9@www.tmralph.com
DTSTAMP:20260423T065133Z
DTSTART:20260502T190000Z
DTEND:20260502T220000Z
SUMMARY:Viewing
DESCRIPTION:
URL:https://www.tmralph.com/obituaries/laurel-daley
LOCATION: 7001 NW 4th St  Plantation FL 33317
GEO:26.1260657;-80.2411744
END:VEVENT
END:VCALENDAR