BEGIN:VCALENDAR
VERSION:2.0
PRODID:-//Tukios.com/
BEGIN:VEVENT
UID:77f3b7fc-fe31-4a6b-9ef3-4da504feb29c@www.tmralph.com
DTSTAMP:20260423T065343Z
DTSTART:20260502T160000Z
DTEND:20260502T170000Z
SUMMARY:Mass
DESCRIPTION:
URL:https://www.tmralph.com/obituaries/laurel-daley
LOCATION:Saint Jerome Catholic Parish 2533 SW 9th Ave  Fort Lauderdale FL 
	33315
GEO:26.0899612;-80.1536221
END:VEVENT
END:VCALENDAR