BEGIN:VCALENDAR
VERSION:2.0
PRODID:-//Tukios.com/
BEGIN:VEVENT
UID:f2e62ad3-e2af-46e2-a2c4-8ed5e3181c67@www.tmralph.com
DTSTAMP:20260424T163855Z
DTSTART:20260509T190000Z
DTEND:20260509T200000Z
SUMMARY:Memorial Service
DESCRIPTION:
URL:https://www.tmralph.com/obituaries/dr-matthew-k-j-lim
LOCATION:First Church of Boynton Beach 101 North Seacrest Boulevard  
	Boynton Beach FL 33435
GEO:26.527722;-80.0646954
END:VEVENT
END:VCALENDAR